BEGIN:VCALENDAR
VERSION:2.0
PRODID:-//Bayou Country Sports Park - ECPv5.12.1//NONSGML v1.0//EN
CALSCALE:GREGORIAN
METHOD:PUBLISH
X-WR-CALNAME:Bayou Country Sports Park
X-ORIGINAL-URL:http://bayousportspark.com
X-WR-CALDESC:Events for Bayou Country Sports Park
REFRESH-INTERVAL;VALUE=DURATION:PT1H
X-Robots-Tag:noindex
X-PUBLISHED-TTL:PT1H
BEGIN:VTIMEZONE
TZID:America/Chicago
BEGIN:DAYLIGHT
TZOFFSETFROM:-0600
TZOFFSETTO:-0500
TZNAME:CDT
DTSTART:20240310T080000
END:DAYLIGHT
BEGIN:STANDARD
TZOFFSETFROM:-0500
TZOFFSETTO:-0600
TZNAME:CST
DTSTART:20241103T070000
END:STANDARD
BEGIN:DAYLIGHT
TZOFFSETFROM:-0600
TZOFFSETTO:-0500
TZNAME:CDT
DTSTART:20250309T080000
END:DAYLIGHT
BEGIN:STANDARD
TZOFFSETFROM:-0500
TZOFFSETTO:-0600
TZNAME:CST
DTSTART:20251102T070000
END:STANDARD
END:VTIMEZONE
BEGIN:VEVENT
DTSTART;TZID=America/Chicago:20240603T180000
DTEND;TZID=America/Chicago:20240603T210000
DTSTAMP:20260425T184128
CREATED:20240513T220439Z
LAST-MODIFIED:20240513T220439Z
UID:2113-1717437600-1717448400@bayousportspark.com
SUMMARY:USA Softball 'All-American Games' Open Tryouts
DESCRIPTION:Starts at 6:30pm (12u Division) \nFor more info: USASoftballEvents.com
URL:http://bayousportspark.com/event/usa-softball-all-american-games-open-tryouts/
LOCATION:Bayou Country Sports Park Softball Complex\, 4374 Highway 311\, Houma\, LA\, 70360\, United States
CATEGORIES:Softball
ATTACH;FMTTYPE=image/jpeg:http://bayousportspark.com/wp-content/uploads/2021/01/SOFTBALL-HOLDER-noimage-e1611952290692.jpg
END:VEVENT
BEGIN:VEVENT
DTSTART;VALUE=DATE:20240629
DTEND;VALUE=DATE:20240702
DTSTAMP:20260425T184128
CREATED:20240521T204035Z
LAST-MODIFIED:20240521T204539Z
UID:2129-1719626400-1719799199@bayousportspark.com
SUMMARY:FASA Softball Tournament
DESCRIPTION:World Series WarmUps 5GG \nTimes TBD
URL:http://bayousportspark.com/event/fasa-softball-tournament-18/
LOCATION:Bayou Country Sports Park Softball Complex\, 4374 Highway 311\, Houma\, LA\, 70360\, United States
CATEGORIES:Softball
END:VEVENT
BEGIN:VEVENT
DTSTART;VALUE=DATE:20240914
DTEND;VALUE=DATE:20240917
DTSTAMP:20260425T184128
CREATED:20240715T221325Z
LAST-MODIFIED:20240808T161443Z
UID:2246-1726279200-1726451999@bayousportspark.com
SUMMARY:American Cancer Society Relay for Life Benefit Softball Tournament
DESCRIPTION:Times TBA\n2 Pool/Double elimination/4GG/$175 Entry/$45 PAP/Ring Event\nBayou Country Sports Park
URL:http://bayousportspark.com/event/american-cancer-society-relay-for-life-benefit-softball-tournament/
LOCATION:Bayou Country Sports Park Softball Complex\, 4374 Highway 311\, Houma\, LA\, 70360\, United States
CATEGORIES:Softball
ATTACH;FMTTYPE=image/jpeg:http://bayousportspark.com/wp-content/uploads/2021/01/SOFTBALL-HOLDER-noimage-e1611952290692.jpg
END:VEVENT
BEGIN:VEVENT
DTSTART;VALUE=DATE:20241019
DTEND;VALUE=DATE:20241022
DTSTAMP:20260425T184128
CREATED:20240808T155140Z
LAST-MODIFIED:20240808T155324Z
UID:2290-1729303200-1729475999@bayousportspark.com
SUMMARY:WalkOffs FASA Softball Tournament
DESCRIPTION:Details TBA
URL:http://bayousportspark.com/event/fasa-softball-tournament-20/
LOCATION:Bayou Country Sports Park Softball Complex\, 4374 Highway 311\, Houma\, LA\, 70360\, United States
CATEGORIES:Softball
ATTACH;FMTTYPE=image/jpeg:http://bayousportspark.com/wp-content/uploads/2021/01/SOFTBALL-HOLDER-noimage-e1611952290692.jpg
ORGANIZER;CN="Mike%20Cadwell":MAILTO:walkoffssoftballteam@gmail.com
END:VEVENT
BEGIN:VEVENT
DTSTART;VALUE=DATE:20241102
DTEND;VALUE=DATE:20241105
DTSTAMP:20260425T184128
CREATED:20240808T155844Z
LAST-MODIFIED:20240808T155844Z
UID:2294-1730512800-1730685599@bayousportspark.com
SUMMARY:FASA Softball Tournament
DESCRIPTION:Details TBA
URL:http://bayousportspark.com/event/fasa-softball-tournament-19/
LOCATION:Bayou Country Sports Park Softball Complex\, 4374 Highway 311\, Houma\, LA\, 70360\, United States
CATEGORIES:Softball
ATTACH;FMTTYPE=image/jpeg:http://bayousportspark.com/wp-content/uploads/2021/01/SOFTBALL-HOLDER-noimage-e1611952290692.jpg
ORGANIZER;CN="Mike%20Cadwell":MAILTO:walkoffssoftballteam@gmail.com
END:VEVENT
BEGIN:VEVENT
DTSTART;VALUE=DATE:20241116
DTEND;VALUE=DATE:20241119
DTSTAMP:20260425T184128
CREATED:20240808T160047Z
LAST-MODIFIED:20240808T160047Z
UID:2296-1731722400-1731895199@bayousportspark.com
SUMMARY:FASA Softball Tournament
DESCRIPTION:Details TBA
URL:http://bayousportspark.com/event/fasa-softball-tournament-21/
LOCATION:Bayou Country Sports Park Softball Complex\, 4374 Highway 311\, Houma\, LA\, 70360\, United States
CATEGORIES:Softball
ATTACH;FMTTYPE=image/jpeg:http://bayousportspark.com/wp-content/uploads/2021/01/SOFTBALL-HOLDER-noimage-e1611952290692.jpg
ORGANIZER;CN="Mike%20Cadwell":MAILTO:walkoffssoftballteam@gmail.com
END:VEVENT
BEGIN:VEVENT
DTSTART;VALUE=DATE:20241207
DTEND;VALUE=DATE:20241210
DTSTAMP:20260425T184128
CREATED:20240808T160233Z
LAST-MODIFIED:20240808T160233Z
UID:2298-1733536800-1733709599@bayousportspark.com
SUMMARY:Toys for Tots FASA Softball Tournament
DESCRIPTION:Details TBA
URL:http://bayousportspark.com/event/toys-for-tots-fasa-softball-tournament/
LOCATION:Bayou Country Sports Park Softball Complex\, 4374 Highway 311\, Houma\, LA\, 70360\, United States
CATEGORIES:Softball
ATTACH;FMTTYPE=image/jpeg:http://bayousportspark.com/wp-content/uploads/2021/01/SOFTBALL-HOLDER-noimage-e1611952290692.jpg
ORGANIZER;CN="Mike%20Cadwell":MAILTO:walkoffssoftballteam@gmail.com
END:VEVENT
BEGIN:VEVENT
DTSTART;VALUE=DATE:20250301
DTEND;VALUE=DATE:20250304
DTSTAMP:20260425T184128
CREATED:20250115T224540Z
LAST-MODIFIED:20250115T224540Z
UID:2302-1740794400-1740967199@bayousportspark.com
SUMMARY:Spring WarmUp Softball Tournament
DESCRIPTION:Go to playfasa.com for more details
URL:http://bayousportspark.com/event/spring-warmup-softball-tournament/
LOCATION:Bayou Country Sports Park Softball Complex\, 4374 Highway 311\, Houma\, LA\, 70360\, United States
CATEGORIES:Softball
ATTACH;FMTTYPE=image/jpeg:http://bayousportspark.com/wp-content/uploads/2025/01/BCSP-Tournament-March-1-2.2025-e1736981118628.jpg
END:VEVENT
BEGIN:VEVENT
DTSTART;VALUE=DATE:20250308
DTEND;VALUE=DATE:20250311
DTSTAMP:20260425T184128
CREATED:20250115T225457Z
LAST-MODIFIED:20250115T225457Z
UID:2309-1741399200-1741571999@bayousportspark.com
SUMMARY:Bayou Country Spring Opener
DESCRIPTION:Go to playfasa.com for additional details
URL:http://bayousportspark.com/event/bayou-country-spring-opener/
LOCATION:Bayou Country Sports Park Softball Complex\, 4374 Highway 311\, Houma\, LA\, 70360\, United States
CATEGORIES:Softball
ATTACH;FMTTYPE=image/jpeg:http://bayousportspark.com/wp-content/uploads/2025/01/BCSP-Tournament-March-8-9.2025-e1736981564938.jpg
END:VEVENT
BEGIN:VEVENT
DTSTART;VALUE=DATE:20250329
DTEND;VALUE=DATE:20250401
DTSTAMP:20260425T184128
CREATED:20250115T225044Z
LAST-MODIFIED:20250115T225044Z
UID:2305-1743213600-1743386399@bayousportspark.com
SUMMARY:March Madness/Belt Event/MVP/Ring Event - Softball Tournament
DESCRIPTION:Go to playfasa.com for more details
URL:http://bayousportspark.com/event/march-madness-belt-event-mvp-ring-event-softball-tournament/
LOCATION:Bayou Country Sports Park Softball Complex\, 4374 Highway 311\, Houma\, LA\, 70360\, United States
CATEGORIES:Softball
ATTACH;FMTTYPE=image/jpeg:http://bayousportspark.com/wp-content/uploads/2025/01/BCSP-Tournament-March-29-30.2025-e1736981327898.jpg
END:VEVENT
END:VCALENDAR