BEGIN:VCALENDAR
VERSION:2.0
PRODID:-//Bayou Country Sports Park - ECPv5.12.1//NONSGML v1.0//EN
CALSCALE:GREGORIAN
METHOD:PUBLISH
X-WR-CALNAME:Bayou Country Sports Park
X-ORIGINAL-URL:http://bayousportspark.com
X-WR-CALDESC:Events for Bayou Country Sports Park
REFRESH-INTERVAL;VALUE=DURATION:PT1H
X-Robots-Tag:noindex
X-PUBLISHED-TTL:PT1H
BEGIN:VTIMEZONE
TZID:America/Chicago
BEGIN:DAYLIGHT
TZOFFSETFROM:-0600
TZOFFSETTO:-0500
TZNAME:CDT
DTSTART:20240310T080000
END:DAYLIGHT
BEGIN:STANDARD
TZOFFSETFROM:-0500
TZOFFSETTO:-0600
TZNAME:CST
DTSTART:20241103T070000
END:STANDARD
BEGIN:DAYLIGHT
TZOFFSETFROM:-0600
TZOFFSETTO:-0500
TZNAME:CDT
DTSTART:20250309T080000
END:DAYLIGHT
BEGIN:STANDARD
TZOFFSETFROM:-0500
TZOFFSETTO:-0600
TZNAME:CST
DTSTART:20251102T070000
END:STANDARD
END:VTIMEZONE
BEGIN:VEVENT
DTSTART;VALUE=DATE:20240302
DTEND;VALUE=DATE:20240304
DTSTAMP:20260425T220343
CREATED:20240105T232302Z
LAST-MODIFIED:20240123T222714Z
UID:1958-1709344800-1709431199@bayousportspark.com
SUMMARY:FASA Softball Tournament
DESCRIPTION:Fields & Times TBA
URL:http://bayousportspark.com/event/fasa-softball-tournament-13/
LOCATION:Bayou Country Sports Park Softball Complex\, 4374 Highway 311\, Houma\, LA\, 70360\, United States
CATEGORIES:Softball
ATTACH;FMTTYPE=image/jpeg:http://bayousportspark.com/wp-content/uploads/2022/01/FASA-LOGO-e1643387026810.jpg
END:VEVENT
BEGIN:VEVENT
DTSTART;TZID=America/Chicago:20240304T173000
DTEND;TZID=America/Chicago:20240304T184500
DTSTAMP:20260425T220343
CREATED:20240110T175539Z
LAST-MODIFIED:20240119T143943Z
UID:2003-1709573400-1709577900@bayousportspark.com
SUMMARY:HJH vs HCJH Softball Game
DESCRIPTION:Trahan’s Field #1
URL:http://bayousportspark.com/event/hjh-vs-hcjh-softball-game/
LOCATION:Bayou Country Sports Park Softball Complex\, 4374 Highway 311\, Houma\, LA\, 70360\, United States
CATEGORIES:Softball
ATTACH;FMTTYPE=image/jpeg:http://bayousportspark.com/wp-content/uploads/2021/01/SOFTBALL-HOLDER-noimage-e1611952290692.jpg
END:VEVENT
BEGIN:VEVENT
DTSTART;TZID=America/Chicago:20240305T170000
DTEND;TZID=America/Chicago:20240305T181500
DTSTAMP:20260425T220343
CREATED:20240110T175750Z
LAST-MODIFIED:20240119T144220Z
UID:2005-1709658000-1709662500@bayousportspark.com
SUMMARY:HCJH vs Berwick Softball Game
DESCRIPTION:Rouses Field #5
URL:http://bayousportspark.com/event/hcjh-vs-berwick-softball-game/
LOCATION:Bayou Country Sports Park Softball Complex\, 4374 Highway 311\, Houma\, LA\, 70360\, United States
CATEGORIES:Softball
ATTACH;FMTTYPE=image/jpeg:http://bayousportspark.com/wp-content/uploads/2021/01/SOFTBALL-HOLDER-noimage-e1611952290692.jpg
END:VEVENT
BEGIN:VEVENT
DTSTART;TZID=America/Chicago:20240306T173000
DTEND;TZID=America/Chicago:20240306T184500
DTSTAMP:20260425T220343
CREATED:20240110T180008Z
LAST-MODIFIED:20240119T144351Z
UID:2007-1709746200-1709750700@bayousportspark.com
SUMMARY:HJH vs LAC Softball Game
DESCRIPTION:Trahan’s Field #1
URL:http://bayousportspark.com/event/hjh-vs-lac-softball-game/
LOCATION:Bayou Country Sports Park Softball Complex\, 4374 Highway 311\, Houma\, LA\, 70360\, United States
CATEGORIES:Softball
ATTACH;FMTTYPE=image/jpeg:http://bayousportspark.com/wp-content/uploads/2021/01/SOFTBALL-HOLDER-noimage-e1611952290692.jpg
END:VEVENT
BEGIN:VEVENT
DTSTART;VALUE=DATE:20240309
DTEND;VALUE=DATE:20240311
DTSTAMP:20260425T220343
CREATED:20240105T232417Z
LAST-MODIFIED:20240123T222500Z
UID:1960-1709949600-1710035999@bayousportspark.com
SUMMARY:FASA Softball Tournament
DESCRIPTION:Fields & Times TBA
URL:http://bayousportspark.com/event/fasa-softball-tournament-14/
LOCATION:Bayou Country Sports Park Softball Complex\, 4374 Highway 311\, Houma\, LA\, 70360\, United States
CATEGORIES:Softball
ATTACH;FMTTYPE=image/jpeg:http://bayousportspark.com/wp-content/uploads/2022/01/FASA-LOGO-e1643387026810.jpg
END:VEVENT
BEGIN:VEVENT
DTSTART;TZID=America/Chicago:20240320T170000
DTEND;TZID=America/Chicago:20240320T181500
DTSTAMP:20260425T220343
CREATED:20240110T180222Z
LAST-MODIFIED:20240119T144906Z
UID:2009-1710954000-1710958500@bayousportspark.com
SUMMARY:HCJH vs EJH Softball Game
DESCRIPTION:Rouses Field #5
URL:http://bayousportspark.com/event/hcjh-vs-ejh-softball-game-2/
LOCATION:Bayou Country Sports Park Softball Complex\, 4374 Highway 311\, Houma\, LA\, 70360\, United States
CATEGORIES:Softball
ATTACH;FMTTYPE=image/jpeg:http://bayousportspark.com/wp-content/uploads/2021/01/SOFTBALL-HOLDER-noimage-e1611952290692.jpg
END:VEVENT
BEGIN:VEVENT
DTSTART;TZID=America/Chicago:20240320T184500
DTEND;TZID=America/Chicago:20240320T200000
DTSTAMP:20260425T220343
CREATED:20240110T180612Z
LAST-MODIFIED:20240119T145027Z
UID:2011-1710960300-1710964800@bayousportspark.com
SUMMARY:HCJH vs HJH Softball Game
DESCRIPTION:Rouses Field #5
URL:http://bayousportspark.com/event/hcjh-vs-hjh-softball-game/
LOCATION:Bayou Country Sports Park Softball Complex\, 4374 Highway 311\, Houma\, LA\, 70360\, United States
CATEGORIES:Softball
ATTACH;FMTTYPE=image/jpeg:http://bayousportspark.com/wp-content/uploads/2021/01/SOFTBALL-HOLDER-noimage-e1611952290692.jpg
END:VEVENT
BEGIN:VEVENT
DTSTART;VALUE=DATE:20240323
DTEND;VALUE=DATE:20240326
DTSTAMP:20260425T220343
CREATED:20240105T232551Z
LAST-MODIFIED:20240321T001853Z
UID:1962-1711159200-1711331999@bayousportspark.com
SUMMARY:FASA Softball Tournament
DESCRIPTION:Fields & Times TBA (Grits)
URL:http://bayousportspark.com/event/fasa-softball-tournament-15/
LOCATION:Bayou Country Sports Park Softball Complex\, 4374 Highway 311\, Houma\, LA\, 70360\, United States
CATEGORIES:Softball
ATTACH;FMTTYPE=image/jpeg:http://bayousportspark.com/wp-content/uploads/2022/01/FASA-LOGO-e1643387026810.jpg
END:VEVENT
BEGIN:VEVENT
DTSTART;VALUE=DATE:20240326
DTEND;VALUE=DATE:20240330
DTSTAMP:20260425T220343
CREATED:20240110T175043Z
LAST-MODIFIED:20240119T145302Z
UID:2001-1711418400-1711677599@bayousportspark.com
SUMMARY:Junior High Softball Tournament
DESCRIPTION:Fields & Times TBA
URL:http://bayousportspark.com/event/junior-high-softball-tournament/
LOCATION:Bayou Country Sports Park Softball Complex\, 4374 Highway 311\, Houma\, LA\, 70360\, United States
CATEGORIES:Softball
ATTACH;FMTTYPE=image/jpeg:http://bayousportspark.com/wp-content/uploads/2021/01/SOFTBALL-HOLDER-noimage-e1611952290692.jpg
END:VEVENT
BEGIN:VEVENT
DTSTART;VALUE=DATE:20240406
DTEND;VALUE=DATE:20240409
DTSTAMP:20260425T220343
CREATED:20240124T214830Z
LAST-MODIFIED:20240124T214830Z
UID:2038-1712368800-1712541599@bayousportspark.com
SUMMARY:FASA Softball Tournament
DESCRIPTION:Times TBA \n(Heat)
URL:http://bayousportspark.com/event/fasa-softball-tournament-16/
LOCATION:Bayou Country Sports Park Softball Complex\, 4374 Highway 311\, Houma\, LA\, 70360\, United States
CATEGORIES:Softball
ATTACH;FMTTYPE=image/jpeg:http://bayousportspark.com/wp-content/uploads/2022/01/FASA-LOGO-e1643387026810.jpg
END:VEVENT
BEGIN:VEVENT
DTSTART;VALUE=DATE:20240420
DTEND;VALUE=DATE:20240423
DTSTAMP:20260425T220343
CREATED:20240124T215130Z
LAST-MODIFIED:20240321T004249Z
UID:2040-1713578400-1713751199@bayousportspark.com
SUMMARY:FASA Softball Tournament
DESCRIPTION:Times TBA \n 
URL:http://bayousportspark.com/event/fasa-softball-tournament-17/
LOCATION:Bayou Country Sports Park Softball Complex\, 4374 Highway 311\, Houma\, LA\, 70360\, United States
CATEGORIES:Softball
ATTACH;FMTTYPE=image/jpeg:http://bayousportspark.com/wp-content/uploads/2022/01/FASA-LOGO-e1643387026810.jpg
END:VEVENT
BEGIN:VEVENT
DTSTART;VALUE=DATE:20240511
DTEND;VALUE=DATE:20240513
DTSTAMP:20260425T220343
CREATED:20240513T215330Z
LAST-MODIFIED:20240513T215330Z
UID:2111-1715392800-1715479199@bayousportspark.com
SUMMARY:Cajun Blast Softball Tournament
DESCRIPTION:One day tournament
URL:http://bayousportspark.com/event/cajun-blast-softball-tournament/
CATEGORIES:Softball
ATTACH;FMTTYPE=image/jpeg:http://bayousportspark.com/wp-content/uploads/2021/01/SOFTBALL-HOLDER-noimage-e1611952290692.jpg
END:VEVENT
BEGIN:VEVENT
DTSTART;VALUE=DATE:20240601
DTEND;VALUE=DATE:20240604
DTSTAMP:20260425T220343
CREATED:20240124T221606Z
LAST-MODIFIED:20240321T004024Z
UID:2048-1717207200-1717379999@bayousportspark.com
SUMMARY:WalkOffs Softball Tournament
DESCRIPTION:Times TBA
URL:http://bayousportspark.com/event/walkoffs-softball-tournament/
LOCATION:Bayou Country Sports Park Softball Complex\, 4374 Highway 311\, Houma\, LA\, 70360\, United States
CATEGORIES:Softball
ATTACH;FMTTYPE=image/jpeg:http://bayousportspark.com/wp-content/uploads/2021/01/SOFTBALL-HOLDER-noimage-e1611952290692.jpg
END:VEVENT
BEGIN:VEVENT
DTSTART;TZID=America/Chicago:20240603T180000
DTEND;TZID=America/Chicago:20240603T210000
DTSTAMP:20260425T220343
CREATED:20240513T220439Z
LAST-MODIFIED:20240513T220439Z
UID:2113-1717437600-1717448400@bayousportspark.com
SUMMARY:USA Softball 'All-American Games' Open Tryouts
DESCRIPTION:Starts at 6:30pm (12u Division) \nFor more info: USASoftballEvents.com
URL:http://bayousportspark.com/event/usa-softball-all-american-games-open-tryouts/
LOCATION:Bayou Country Sports Park Softball Complex\, 4374 Highway 311\, Houma\, LA\, 70360\, United States
CATEGORIES:Softball
ATTACH;FMTTYPE=image/jpeg:http://bayousportspark.com/wp-content/uploads/2021/01/SOFTBALL-HOLDER-noimage-e1611952290692.jpg
END:VEVENT
BEGIN:VEVENT
DTSTART;VALUE=DATE:20240629
DTEND;VALUE=DATE:20240702
DTSTAMP:20260425T220343
CREATED:20240521T204035Z
LAST-MODIFIED:20240521T204539Z
UID:2129-1719626400-1719799199@bayousportspark.com
SUMMARY:FASA Softball Tournament
DESCRIPTION:World Series WarmUps 5GG \nTimes TBD
URL:http://bayousportspark.com/event/fasa-softball-tournament-18/
LOCATION:Bayou Country Sports Park Softball Complex\, 4374 Highway 311\, Houma\, LA\, 70360\, United States
CATEGORIES:Softball
END:VEVENT
BEGIN:VEVENT
DTSTART;VALUE=DATE:20240914
DTEND;VALUE=DATE:20240917
DTSTAMP:20260425T220343
CREATED:20240715T221325Z
LAST-MODIFIED:20240808T161443Z
UID:2246-1726279200-1726451999@bayousportspark.com
SUMMARY:American Cancer Society Relay for Life Benefit Softball Tournament
DESCRIPTION:Times TBA\n2 Pool/Double elimination/4GG/$175 Entry/$45 PAP/Ring Event\nBayou Country Sports Park
URL:http://bayousportspark.com/event/american-cancer-society-relay-for-life-benefit-softball-tournament/
LOCATION:Bayou Country Sports Park Softball Complex\, 4374 Highway 311\, Houma\, LA\, 70360\, United States
CATEGORIES:Softball
ATTACH;FMTTYPE=image/jpeg:http://bayousportspark.com/wp-content/uploads/2021/01/SOFTBALL-HOLDER-noimage-e1611952290692.jpg
END:VEVENT
BEGIN:VEVENT
DTSTART;VALUE=DATE:20241019
DTEND;VALUE=DATE:20241022
DTSTAMP:20260425T220343
CREATED:20240808T155140Z
LAST-MODIFIED:20240808T155324Z
UID:2290-1729303200-1729475999@bayousportspark.com
SUMMARY:WalkOffs FASA Softball Tournament
DESCRIPTION:Details TBA
URL:http://bayousportspark.com/event/fasa-softball-tournament-20/
LOCATION:Bayou Country Sports Park Softball Complex\, 4374 Highway 311\, Houma\, LA\, 70360\, United States
CATEGORIES:Softball
ATTACH;FMTTYPE=image/jpeg:http://bayousportspark.com/wp-content/uploads/2021/01/SOFTBALL-HOLDER-noimage-e1611952290692.jpg
ORGANIZER;CN="Mike%20Cadwell":MAILTO:walkoffssoftballteam@gmail.com
END:VEVENT
BEGIN:VEVENT
DTSTART;VALUE=DATE:20241102
DTEND;VALUE=DATE:20241105
DTSTAMP:20260425T220343
CREATED:20240808T155844Z
LAST-MODIFIED:20240808T155844Z
UID:2294-1730512800-1730685599@bayousportspark.com
SUMMARY:FASA Softball Tournament
DESCRIPTION:Details TBA
URL:http://bayousportspark.com/event/fasa-softball-tournament-19/
LOCATION:Bayou Country Sports Park Softball Complex\, 4374 Highway 311\, Houma\, LA\, 70360\, United States
CATEGORIES:Softball
ATTACH;FMTTYPE=image/jpeg:http://bayousportspark.com/wp-content/uploads/2021/01/SOFTBALL-HOLDER-noimage-e1611952290692.jpg
ORGANIZER;CN="Mike%20Cadwell":MAILTO:walkoffssoftballteam@gmail.com
END:VEVENT
BEGIN:VEVENT
DTSTART;VALUE=DATE:20241116
DTEND;VALUE=DATE:20241119
DTSTAMP:20260425T220343
CREATED:20240808T160047Z
LAST-MODIFIED:20240808T160047Z
UID:2296-1731722400-1731895199@bayousportspark.com
SUMMARY:FASA Softball Tournament
DESCRIPTION:Details TBA
URL:http://bayousportspark.com/event/fasa-softball-tournament-21/
LOCATION:Bayou Country Sports Park Softball Complex\, 4374 Highway 311\, Houma\, LA\, 70360\, United States
CATEGORIES:Softball
ATTACH;FMTTYPE=image/jpeg:http://bayousportspark.com/wp-content/uploads/2021/01/SOFTBALL-HOLDER-noimage-e1611952290692.jpg
ORGANIZER;CN="Mike%20Cadwell":MAILTO:walkoffssoftballteam@gmail.com
END:VEVENT
BEGIN:VEVENT
DTSTART;VALUE=DATE:20241207
DTEND;VALUE=DATE:20241210
DTSTAMP:20260425T220343
CREATED:20240808T160233Z
LAST-MODIFIED:20240808T160233Z
UID:2298-1733536800-1733709599@bayousportspark.com
SUMMARY:Toys for Tots FASA Softball Tournament
DESCRIPTION:Details TBA
URL:http://bayousportspark.com/event/toys-for-tots-fasa-softball-tournament/
LOCATION:Bayou Country Sports Park Softball Complex\, 4374 Highway 311\, Houma\, LA\, 70360\, United States
CATEGORIES:Softball
ATTACH;FMTTYPE=image/jpeg:http://bayousportspark.com/wp-content/uploads/2021/01/SOFTBALL-HOLDER-noimage-e1611952290692.jpg
ORGANIZER;CN="Mike%20Cadwell":MAILTO:walkoffssoftballteam@gmail.com
END:VEVENT
BEGIN:VEVENT
DTSTART;VALUE=DATE:20250301
DTEND;VALUE=DATE:20250304
DTSTAMP:20260425T220343
CREATED:20250115T224540Z
LAST-MODIFIED:20250115T224540Z
UID:2302-1740794400-1740967199@bayousportspark.com
SUMMARY:Spring WarmUp Softball Tournament
DESCRIPTION:Go to playfasa.com for more details
URL:http://bayousportspark.com/event/spring-warmup-softball-tournament/
LOCATION:Bayou Country Sports Park Softball Complex\, 4374 Highway 311\, Houma\, LA\, 70360\, United States
CATEGORIES:Softball
ATTACH;FMTTYPE=image/jpeg:http://bayousportspark.com/wp-content/uploads/2025/01/BCSP-Tournament-March-1-2.2025-e1736981118628.jpg
END:VEVENT
BEGIN:VEVENT
DTSTART;VALUE=DATE:20250308
DTEND;VALUE=DATE:20250311
DTSTAMP:20260425T220343
CREATED:20250115T225457Z
LAST-MODIFIED:20250115T225457Z
UID:2309-1741399200-1741571999@bayousportspark.com
SUMMARY:Bayou Country Spring Opener
DESCRIPTION:Go to playfasa.com for additional details
URL:http://bayousportspark.com/event/bayou-country-spring-opener/
LOCATION:Bayou Country Sports Park Softball Complex\, 4374 Highway 311\, Houma\, LA\, 70360\, United States
CATEGORIES:Softball
ATTACH;FMTTYPE=image/jpeg:http://bayousportspark.com/wp-content/uploads/2025/01/BCSP-Tournament-March-8-9.2025-e1736981564938.jpg
END:VEVENT
BEGIN:VEVENT
DTSTART;VALUE=DATE:20250329
DTEND;VALUE=DATE:20250401
DTSTAMP:20260425T220343
CREATED:20250115T225044Z
LAST-MODIFIED:20250115T225044Z
UID:2305-1743213600-1743386399@bayousportspark.com
SUMMARY:March Madness/Belt Event/MVP/Ring Event - Softball Tournament
DESCRIPTION:Go to playfasa.com for more details
URL:http://bayousportspark.com/event/march-madness-belt-event-mvp-ring-event-softball-tournament/
LOCATION:Bayou Country Sports Park Softball Complex\, 4374 Highway 311\, Houma\, LA\, 70360\, United States
CATEGORIES:Softball
ATTACH;FMTTYPE=image/jpeg:http://bayousportspark.com/wp-content/uploads/2025/01/BCSP-Tournament-March-29-30.2025-e1736981327898.jpg
END:VEVENT
END:VCALENDAR